BEGIN:VCALENDAR
VERSION:2.0
PRODID:-//Crystal Waters Eco Village - ECPv6.15.20//NONSGML v1.0//EN
CALSCALE:GREGORIAN
METHOD:PUBLISH
X-ORIGINAL-URL:https://crystalwaters.org.au
X-WR-CALDESC:Events for Crystal Waters Eco Village
REFRESH-INTERVAL;VALUE=DURATION:PT1H
X-Robots-Tag:noindex
X-PUBLISHED-TTL:PT1H
BEGIN:VTIMEZONE
TZID:Australia/Brisbane
BEGIN:STANDARD
TZOFFSETFROM:+1000
TZOFFSETTO:+1000
TZNAME:AEST
DTSTART:20240101T000000
END:STANDARD
END:VTIMEZONE
BEGIN:VEVENT
DTSTART;TZID=Australia/Brisbane:20251129T180000
DTEND;TZID=Australia/Brisbane:20251129T220000
DTSTAMP:20260424T063623
CREATED:20251104T004658Z
LAST-MODIFIED:20251105T223351Z
UID:57138-1764439200-1764453600@crystalwaters.org.au
SUMMARY:Swing Brothers with Sista Paula + Special guest Roger Beare
DESCRIPTION:Swing Brothers with Sista Paula are a popular jazz\, swing\, and blues band based in the Sunshine Coast hinterland of Queensland. Known for their high-energy\, toe-tapping performances\, the band covers a wide musical range\, from Chuck Berry to Gershwin\, with the motto\, “It don’t mean a thing\, if it ain’t got that Swing!”. \nFeaturing\n\nSista Paula (Paula Brackenborough-Williams): Vocals\n“Peter G” (Peter Gawith): Guitar\nHoward Combes: Double Bass\nRoger Beare: Special Guest on Saxophone\n\nThe group is known for its versatility and ability to “swing anything”. Their setlists often feature jazz standards like Billie Holiday’s “God Bless the Child\,” as well as blues numbers such as “Love Me Like a Man”. Performances also feature many of Paula’s wonderful original songs. They are a staple act at local community events and venues\, including the Peachester Cafe and the Beerwah Hotel\, and also play at musical festivals such as Jazz in the Park and Festuri. \nFeatured Musician: Roger Beare\nSpecial guest Roger Beare is a prominent and highly experienced musician within the Sunshine Coast music scene. An accomplished saxophonist and vocalist\, Beare is a familiar face in a number of local bands. He is a core member of The Spirits band\, where he leads on vocals and his “mighty sax”\, and is also part of the contemporary blues band the Blues Bandits\, performing alongside other experienced musicians like Sam Shepherd and Kevin Brand. Known for his cool\, captivating blues performances\, Roger Beare brings a wealth of experience and a sensational sound to any collaboration\, including his guest spots with Swing Brothers with Sista Paula. \n\nDate\nSaturday 29 November 2025 6:00 PM – 10:00 PM (UTC+10)\n\nLocation\n\n\nCrystal Waters Music Club\n65 Kilcoy Lane\, Conondale QLD 4552\nGet directions \nTickets: $25\n\nBook now:
URL:https://crystalwaters.org.au/event/swing-brothers-and-sista-paula/
LOCATION:The Deck\, Crystal Waters\, Conondale\, Queensland\, 4552\, Australia
CATEGORIES:Music
ATTACH;FMTTYPE=image/jpeg:https://crystalwaters.org.au/wp-content/uploads/2025/11/pFzl0qPe.jpg
END:VEVENT
END:VCALENDAR