BEGIN:VCALENDAR
VERSION:2.0
PRODID:-//Crystal Waters Eco Village - ECPv6.15.20//NONSGML v1.0//EN
CALSCALE:GREGORIAN
METHOD:PUBLISH
X-WR-CALNAME:Crystal Waters Eco Village
X-ORIGINAL-URL:https://crystalwaters.org.au
X-WR-CALDESC:Events for Crystal Waters Eco Village
REFRESH-INTERVAL;VALUE=DURATION:PT1H
X-Robots-Tag:noindex
X-PUBLISHED-TTL:PT1H
BEGIN:VTIMEZONE
TZID:Australia/Brisbane
BEGIN:STANDARD
TZOFFSETFROM:+1000
TZOFFSETTO:+1000
TZNAME:AEST
DTSTART:20240101T000000
END:STANDARD
END:VTIMEZONE
BEGIN:VEVENT
DTSTART;TZID=Australia/Brisbane:20250830T170000
DTEND;TZID=Australia/Brisbane:20250830T220000
DTSTAMP:20260424T130528
CREATED:20250827T225624Z
LAST-MODIFIED:20250827T230100Z
UID:57089-1756573200-1756591200@crystalwaters.org.au
SUMMARY:JC & the Tree and Tom Harrington
DESCRIPTION:Join us for an evening of live music on the deck at Crystal Waters Eco village featuring two world-class touring acts JC & the Tree and Tom Harrington. \nKitchen and bar will be open for dinner\, drinks and even some sweet treats. \nCamping\, or cabin accommodation available onsite\, book here: https://crystalwaters.org.au/ecopark-accommodations/ \nTICKETS:\nhttps://events.humanitix.com/live-music-on-the-deck-with-jc-and-the-tree-and-tom-harrington-crystal-waters/tickets \nAbout JC and the Tree \nAward winning folk fusion duo JC and the Tree writes about mountains to sea and life between. Fans describe their style as intricate yet accessible. Weaving violin\, vocal harmonies\, keyboard and self hand-made acoustic guitars. This duo takes audiences on a journey through genres including folk\, roots and rock with touches of gypsy and funk. Music is a language beyond words and JC and the Tree are inspired to use it as a tool to bring all walks of life together. Motivated by their love of nature they have gone to great lengths to offer ethical and sustainable sourced merchandise. Previous festival appearances include Woodford\, Airlie Beach festival\, Caloundra music festival\, Yackandandah Folk festival and many more while founding member JC also has a rich touring history around the world playing at festivals such as Glastonbury\, WOMAD\, Bluesfest\, Splendour & Port Fairy. \nAbout Tom Harrington \nTom Harrington is an indie-folk artist\, who grew up in rural Victoria on a cropping farm before falling in love with the coastal life. He has spent the past 12 months touring in his van supporting BOY AND BEAR\, ZIGGY ALBERTS\, MORGAN EVANS\, THE DREGGS\, KIM CHURCHILL\, STEPH STRINGS & DIDIRRI\, just to name a few. He was crowned winner of Battle of the Buskers on the Sunshine Coast which saw him appear at Byron Bluesfest\, Airlie Beach Music Festival and Gympie Music Muster twice. His music is streamed in over 110 countries each month on Spotify alone and has grown strong organic fan bases across Australia. \nHe uses live vocal looping to create a larger-than-life sound whilst still remaining present and flowing\, to a level unseen in other indie-folk artists. His rural upbringing sees him bringing flavours of country into his music and has that unique rural ability to connect with people in a way that shines. Bound to make audiences feel something new in every performance and singalongs are an absolute requirement. \n 
URL:https://crystalwaters.org.au/event/jc-the-tree-and-tom-harrington/
LOCATION:The Deck\, Crystal Waters\, Conondale\, Queensland\, 4552\, Australia
CATEGORIES:ChillSesh,Concerts,Music,Music on The Deck,Performance
ATTACH;FMTTYPE=image/jpeg:https://crystalwaters.org.au/wp-content/uploads/2025/08/image0.jpeg
END:VEVENT
BEGIN:VEVENT
DTSTART;TZID=Australia/Brisbane:20250504T180000
DTEND;TZID=Australia/Brisbane:20250504T223000
DTSTAMP:20260424T130528
CREATED:20250421T230611Z
LAST-MODIFIED:20250422T015320Z
UID:55536-1746381600-1746397800@crystalwaters.org.au
SUMMARY:Crystal Waters Local Talent Showcase
DESCRIPTION:Crystal Waters Music Club is excited to be presenting a new Evening in The Village \n  \nCrystal Waters Music Club Event on The Deck at the beautiful Crystal Waters Eco Village.\nThe Kitchen is open with Food Vibes and the Co-op provides a Bar. \nFeaturing The Hinterland DayBreakers\, Bizarrely Quartet and Rensnbruce duo.\n\nSome of Crystal Waters’ best musical talent will perform on the Deck on Sunday\, May 4th\, from 6 p.m.\n\nDelightful duo Rens n Bruce will open the night with their beautiful Indonesian songs and harmonies.\n\nThe Bizarrely Quartet is building a solid reputation for delivering a diverse range of musical genres with stylish excellence.\n\nThe Hinterland Daybreakers will finish the night with an upbeat set of covers and originals spanning the rock and blues spectrum. \nTickets are $20 at the door or\, $15 online\, with all proceeds going to the performers and the Crystal Waters Coop. The CW Coop will be running the bar and Food Vibes will be serving delicious dinner.\nFind us at 65 Kilcoy Lane\, Conondale\, and on our band FB sites. \nCamping and Bunkhouse accommodation available. Eco Park – Village Camping Area | Crystal Waters Eco Village \nBAR OPEN\, BABA BISTRO SERVING FOOD \nINDOOR AND OUTDOOR SEATING – KID FRIENDLY \n\n\nSunday 4 May 2025 \n6:00 PM – 10:00 PM \n\n\n\nTickets: $15 online Book Here!\n\n\n\nTickets are currently $15\, and will likely be $20 at the door.\n\n\nHope to see you there!\n 
URL:https://crystalwaters.org.au/event/music-club-monthly-event/
LOCATION:The Deck\, Crystal Waters\, Conondale\, Queensland\, 4552\, Australia
CATEGORIES:Music,Music on The Deck
ATTACH;FMTTYPE=image/jpeg:https://crystalwaters.org.au/wp-content/uploads/2025/03/EHI1386940-c30c564849e34c95b53f19af747bdaf1.jpg
END:VEVENT
BEGIN:VEVENT
DTSTART;TZID=Australia/Brisbane:20250426T150000
DTEND;TZID=Australia/Brisbane:20250426T220000
DTSTAMP:20260424T130528
CREATED:20250417T054703Z
LAST-MODIFIED:20250417T055111Z
UID:56768-1745679600-1745704800@crystalwaters.org.au
SUMMARY:Sounds of Hope: Artists for Australian Democracy
DESCRIPTION:“We all watch in horror as the US turns it’s back on democracy and embraces a vile authoritarianism. Think Orwell’s ‘Animal Farm’ and recognise the pigs”.\n\nThe US wants very much to for us to follow them down that path. Clive Palmer has named his party after the rapist president and Dutton’s first overseas visit\, if he wins\, will be to kiss the ring of the rapist in the White House!\n\nSo a group of concerned citizens have gotten together to fight the scourge coming our way at the hands of Trump and Musk. We asked Artists for their support and have been amazed at the enthusiastic response.\n\nThese wonderful performers are generously donating their time to our cause (the defense of our fragile democracy) and we hope that you can come and support them and our cause too. All profits from the event will be donated to local charities Welcome to Maleny Refugee Group and The Maleny Neighbourhood Centre.\n\nThe Spirits\,   Linsey Pollak\,\nThe Charles Camillieri Connection\,\nNoel Gardner and the Party Faithful\,\nYoav & Friends\, Murray Wall & Natalie Richy\,\nRubatuba\, & the Daybreakers. Ian Mackay will be your MC.\n\nLet’s celebrate together and raise our voices is support of Australia’s Democracy.\n\n\nEvent description\n\nIn an effort to counteract the ‘dismantle democracy’ message coming from the US\, we’re running a music\, spoken word and dance event at Crystal Waters soon called ‘Sounds of Hope: Artists for Australian Democracy’. \nConfirmed acts include The Spirits\, Linsey Pollak\, The Charles Camillieri Connection\, Noel Gardner and the Party Faithful\, Yoav and Friends\, Murray Wall and Natalie Richy\, Rubatuba\, and Daybreakers. Ian Mackay will be your MC. \nWe are planning for an afternoon and evening of wonderful good-vibe music\, food\, bar and fires with a festival atmosphere. Yet with a clear message: to celebrate this country and her continuing commitment to defending our democracy and our precious sovereignty. \nThese fantastic performers are donating their time for our cause. The event is not for profit with all surplus going to local charities \n\n\nDownload POSTER\n\nSee you on April 26th!
URL:https://crystalwaters.org.au/event/soundsofhope/
LOCATION:Village Green\, Crystal Waters\, Conondale\, Queensland\, 4552\, Australia
CATEGORIES:Music,Music on The Deck
ATTACH;FMTTYPE=image/jpeg:https://crystalwaters.org.au/wp-content/uploads/2025/04/music-soundsofhope-poster.jpg
END:VEVENT
END:VCALENDAR