BEGIN:VCALENDAR
VERSION:2.0
PRODID:-//Crystal Waters Eco Village - ECPv6.15.20//NONSGML v1.0//EN
CALSCALE:GREGORIAN
METHOD:PUBLISH
X-ORIGINAL-URL:https://crystalwaters.org.au
X-WR-CALDESC:Events for Crystal Waters Eco Village
REFRESH-INTERVAL;VALUE=DURATION:PT1H
X-Robots-Tag:noindex
X-PUBLISHED-TTL:PT1H
BEGIN:VTIMEZONE
TZID:Australia/Brisbane
BEGIN:STANDARD
TZOFFSETFROM:+1000
TZOFFSETTO:+1000
TZNAME:AEST
DTSTART:20250101T000000
END:STANDARD
END:VTIMEZONE
BEGIN:VEVENT
DTSTART;TZID=Australia/Brisbane:20261002T000000
DTEND;TZID=Australia/Brisbane:20261019T235959
DTSTAMP:20260424T050706
CREATED:20251211T070323Z
LAST-MODIFIED:20260108T081103Z
UID:55250-1790899200-1792454399@crystalwaters.org.au
SUMMARY:Women’s Change Makers Permaculture Design Course
DESCRIPTION:Design\, Regulate & Regenerate Your  \nLand * Livelihood * Life Path * Legacy \nWomen’s Change Makers Permaculture Design Course\n\n\nOctober 2-18\, 2026.\n\nCrystal Waters Permaculture Eco Village\, Sunshine Coast\, Queensland.\n\nFacilitators – Annaliese Hordern\, Robin Clayfield\, Jane Little\, Erin Young\, Holly Wittholz and more special guests. \n\nA practical\, empowering and life-affirming journey designed to equip women with the tools to live and lead regeneratively. This immersive two-week course offers a globally recognised Permaculture Design Certificate (PDC) and is ideal for both new and experienced land stewards ready to deepen their understanding of ecological living\, systems design\, and their place within it all.\nThroughout the course\, you’ll learn to read the landscape\, understand water flow and storage\, identify climate-suitable food and medicinal plants\, design efficient buildings and microclimates\, regenerate soil\, expand wildlife corridors\, save seeds and so much more to support long-term abundance. \nThe curriculum weaves earth-based practices with personal transformation\, offering space for reflection\, body movement sessions\, sauna\, massage\, and opportunities to share what’s alive in your life. You’ll build the skills to shape external environments and nurture internal wellbeing\, growing your confidence\, resilience and clarity of vision while deepening your innate wisdom. \nThis course is for women called to care for land\, community and future generations\,\nWhether you’re growing food\, building a home\, raising children\, running a project\, refining your skills while travelling or simply seeking a more meaningful\, nature-aligned way of life. You’ll leave with a practical toolbox\, the opportunity to create clear plan to move forward and a supportive sisterhood ready to co-create a thriving future.\n\n\n\nQuestions and bookings contact Annaliese Hordern\ninfo@symbioticnature.com.au\nhttps://www.changemakerspermaculture.com/\n\n\nWomen’s Permaculture
URL:https://crystalwaters.org.au/event/womens-change-makers-permaculture-design-course/
LOCATION:EcoCentre\, Crystal Waters\, Conondale\, Queensland\, 4552\, Australia
CATEGORIES:Permaculture Courses
ATTACH;FMTTYPE=image/jpeg:https://crystalwaters.org.au/wp-content/uploads/2025/04/Womens-CM-PDC-Poster1.jpg
ORGANIZER;CN="Annaliese Hordern":MAILTO:info@symbioticnature.com.au
END:VEVENT
END:VCALENDAR