BEGIN:VCALENDAR
VERSION:2.0
PRODID:-//Crystal Waters Eco Village - ECPv5.0.2//NONSGML v1.0//EN
CALSCALE:GREGORIAN
METHOD:PUBLISH
X-WR-CALNAME:Crystal Waters Eco Village
X-ORIGINAL-URL:https://crystalwaters.org.au
X-WR-CALDESC:Events for Crystal Waters Eco Village
BEGIN:VTIMEZONE
TZID:Australia/Brisbane
BEGIN:STANDARD
TZOFFSETFROM:+1000
TZOFFSETTO:+1000
TZNAME:AEST
DTSTART:20200101T000000
END:STANDARD
END:VTIMEZONE
BEGIN:VEVENT
DTSTART;TZID=Australia/Brisbane:20200307T140000
DTEND;TZID=Australia/Brisbane:20201205T170000
DTSTAMP:20200302T055114
CREATED:20200221T062107Z
LAST-MODIFIED:20200221T071336Z
UID:6071-1583589600-1607187600@crystalwaters.org.au
SUMMARY:Crystal Waters Chill Sesh
DESCRIPTION:Come enjoy the smooth electronic sounds on the beautiful Crystal Waters Village Green. \n$5 entry to help the community and let us continue this magical event that they let us hold for all of you. \nThis is a BYO event there will be NO bar \nWe have wonderful falafels and salad from Yoav and Rebecca on the deck.\n{NOTE CASH ONLY} Open from 6.00 pm till 8.00 pm \nCool retro vinyl grooves from DJ Jan 2-4 pm\, best tunes from the 60s and 70s. \nLocal DJs bringing some smooth grooves then bringing on some dance tracks as the sky gets dark. \nPlease\, no dogs\, it’s a wildlife reserve. \nCome sit by the toastie camp fire and make some great new friends with the community.\nTunes finish 11.00 pm There is a Camping ground on site so be sure to make a booking if you are thinking of staying for the night so you have somewhere safe to stay\, you can find the accommodation HERE. \n
URL:https://crystalwaters.org.au/event/crystal-waters-chill-sesh/
LOCATION:Village Green\, Crystal Waters\, Conondale\, Queensland\, 4552\, Australia
CATEGORIES:ChillSesh
ATTACH;FMTTYPE=image/jpeg:https://crystalwaters.org.au/wp-content/uploads/2020/02/event-chillsesh.jpg
END:VEVENT
END:VCALENDAR