BEGIN:VCALENDAR
VERSION:2.0
PRODID:-//Crystal Waters Eco Village - ECPv5.0.2//NONSGML v1.0//EN
CALSCALE:GREGORIAN
METHOD:PUBLISH
X-WR-CALNAME:Crystal Waters Eco Village
X-ORIGINAL-URL:https://crystalwaters.org.au
X-WR-CALDESC:Events for Crystal Waters Eco Village
BEGIN:VTIMEZONE
TZID:Australia/Brisbane
BEGIN:STANDARD
TZOFFSETFROM:+1000
TZOFFSETTO:+1000
TZNAME:AEST
DTSTART:20200101T000000
END:STANDARD
END:VTIMEZONE
BEGIN:VEVENT
DTSTART;TZID=Australia/Brisbane:20200307T080000
DTEND;TZID=Australia/Brisbane:20200307T130000
DTSTAMP:20200302T054818
CREATED:20200206T072926Z
LAST-MODIFIED:20200217T064250Z
UID:5952-1583568000-1583586000@crystalwaters.org.au
SUMMARY:Monthly Village Markets
DESCRIPTION:              \n\n				   \n                   \n                   \nFor More information go here: https://crystalwaters.org.au/markets\n  \n  \n
URL:https://crystalwaters.org.au/event/monthly-village-markets-2020-03-07/
LOCATION:Village Green\, Crystal Waters\, Conondale\, Queensland\, 4552\, Australia
CATEGORIES:Village Markets
ATTACH;FMTTYPE=image/jpeg:https://crystalwaters.org.au/wp-content/uploads/2020/02/CWmarkets-202003-vegies.jpg
END:VEVENT
END:VCALENDAR