BEGIN:VCALENDAR
VERSION:2.0
PRODID:-//Crystal Waters Eco Village - ECPv5.3.2.1//NONSGML v1.0//EN
CALSCALE:GREGORIAN
METHOD:PUBLISH
X-WR-CALNAME:Crystal Waters Eco Village
X-ORIGINAL-URL:https://crystalwaters.org.au
X-WR-CALDESC:Events for Crystal Waters Eco Village
BEGIN:VTIMEZONE
TZID:Australia/Brisbane
BEGIN:STANDARD
TZOFFSETFROM:+1000
TZOFFSETTO:+1000
TZNAME:AEST
DTSTART:20210101T000000
END:STANDARD
END:VTIMEZONE
BEGIN:VEVENT
DTSTART;TZID=Australia/Brisbane:20210403T080000
DTEND;TZID=Australia/Brisbane:20210403T130000
DTSTAMP:20210224T020359
CREATED:20210126T072926Z
LAST-MODIFIED:20210202T101821Z
UID:6705-1617436800-1617454800@crystalwaters.org.au
SUMMARY:Monthly Village Markets
DESCRIPTION:Crystal Waters EcoVillage Monthly Village Markets\nFor More information go here: https://crystalwaters.org.au/markets\n  \n 
URL:https://crystalwaters.org.au/event/monthly-village-markets-2020-03-07-2020-04-04-2020-05-02-2021-03-06/2021-04-03/
LOCATION:Village Green\, Crystal Waters\, Conondale\, Queensland\, 4552\, Australia
CATEGORIES:Village Markets
ATTACH;FMTTYPE=image/jpeg:https://crystalwaters.org.au/wp-content/uploads/2020/02/market-events-monthly-1.jpg
END:VEVENT
BEGIN:VEVENT
DTSTART;TZID=Australia/Brisbane:20210321T080000
DTEND;TZID=Australia/Brisbane:20210326T170000
DTSTAMP:20210224T020359
CREATED:20210219T044902Z
LAST-MODIFIED:20210222T082417Z
UID:6828-1616313600-1616778000@crystalwaters.org.au
SUMMARY:Dynamic Groups with Robin Clayfield
DESCRIPTION:Robin Clayfield : Dynamic Groups website \n\nHome
URL:https://crystalwaters.org.au/event/dynamic-groups-with-robin-clayfield/
LOCATION:EcoCentre\, Crystal Waters\, Conondale\, Queensland\, 4552\, Australia
CATEGORIES:Courses
ATTACH;FMTTYPE=image/jpeg:https://crystalwaters.org.au/wp-content/uploads/2021/02/Dynamci_Groups-CW2021.jpg
END:VEVENT
BEGIN:VEVENT
DTSTART;TZID=Australia/Brisbane:20210306T080000
DTEND;TZID=Australia/Brisbane:20210306T130000
DTSTAMP:20210224T020359
CREATED:20210126T072926Z
LAST-MODIFIED:20210202T101820Z
UID:6704-1615017600-1615035600@crystalwaters.org.au
SUMMARY:Monthly Village Markets
DESCRIPTION:Crystal Waters EcoVillage Monthly Village Markets\nFor More information go here: https://crystalwaters.org.au/markets\n  \n 
URL:https://crystalwaters.org.au/event/monthly-village-markets-2020-03-07-2020-04-04-2020-05-02-2021-03-06/2021-03-06/
LOCATION:Village Green\, Crystal Waters\, Conondale\, Queensland\, 4552\, Australia
CATEGORIES:Village Markets
ATTACH;FMTTYPE=image/jpeg:https://crystalwaters.org.au/wp-content/uploads/2020/02/market-events-monthly-1.jpg
END:VEVENT
BEGIN:VEVENT
DTSTART;TZID=Australia/Brisbane:20210227T180000
DTEND;TZID=Australia/Brisbane:20210227T230000
DTSTAMP:20210224T020359
CREATED:20210222T082328Z
LAST-MODIFIED:20210222T082328Z
UID:6865-1614448800-1614466800@crystalwaters.org.au
SUMMARY:Music Club Feb 27
DESCRIPTION:Hi Music-lovers.\nWhat a great line-up we have for Saturday’s Music Club Soirée Under the whatsits.\nWe will start at 6pm with the lovely Eden\, a singer-songwriter who will perform some of her haunting songs for us.\nThen we have Ben who performs on a 7 string classical guitar. (We don’t believe in sparing the expense at CWMUSICLUB) Ben is quite the maestro\, playing Classical\, Flamenco and Jazz\, much of it his own compositions.\nYou dont want to miss these acts so don’t be late! \nNext up we have the bizarrely- named  ‘The Bizarrely Quartet’. Based in Crystal Waters\, TBQ consist of the marvellous Ally Bing on Vocals\, Banjo and Piano; James Allen\, our own local guitar legend who sings like a bird; the wonderful Beans Marie’s on Fiddle\, Guitar\, Piano and Vocals; and myself\, Bernard O Scanaill\, playing Piano and Guitar and vocals. Our Music is varied from traditional through to Original\, passing through Folk\, Rock\, Gospel. Trying different things every time. \nThe finale act is the marvellous ‘Canto la Tumba’ Who play fabulous and often furious Latin grooves from Cuba and Central/South America. Quite wonderful and Dance o matic.\nUber guitarist Murray Wall and Percussion Diva Natalie Richy are the frontenfolk of this great band. The amazing Steve Ewart is on Trumpet\, the enigmatic Chicken George is on the drums a the slick Nik Davey on drums. Dance au Matique. N’est Cafe? \nSo I hope you can join us on the Deck at Crystal Waters on Saturday as we Soirée the night away.\nGreat Music\, super Venue\, fabulous Food\, a cool Bar serving Beer Cider and wines\, camping just up the road at our CW EcoPark.\nWhat\, I ask you\, could be perfecter?
URL:https://crystalwaters.org.au/event/music-club-feb-27/
LOCATION:The Deck\, Crystal Waters\, Conondale\, Queensland\, 4552\, Australia
CATEGORIES:Music,Music on The Deck
ATTACH;FMTTYPE=image/jpeg:https://crystalwaters.org.au/wp-content/uploads/2021/02/cw-musicclub-feb27.jpg
END:VEVENT
END:VCALENDAR